BEGIN:VCALENDAR
VERSION:2.0
PRODID:-//Lone Pine Hunters Club - ECPv6.10.1.1//NONSGML v1.0//EN
CALSCALE:GREGORIAN
METHOD:PUBLISH
X-WR-CALNAME:Lone Pine Hunters Club
X-ORIGINAL-URL:https://www.lonepinehuntersclub.org
X-WR-CALDESC:Events for Lone Pine Hunters Club
REFRESH-INTERVAL;VALUE=DURATION:PT1H
X-Robots-Tag:noindex
X-PUBLISHED-TTL:PT1H
BEGIN:VTIMEZONE
TZID:America/New_York
BEGIN:DAYLIGHT
TZOFFSETFROM:-0500
TZOFFSETTO:-0400
TZNAME:EDT
DTSTART:20240310T070000
END:DAYLIGHT
BEGIN:STANDARD
TZOFFSETFROM:-0400
TZOFFSETTO:-0500
TZNAME:EST
DTSTART:20241103T060000
END:STANDARD
BEGIN:DAYLIGHT
TZOFFSETFROM:-0500
TZOFFSETTO:-0400
TZNAME:EDT
DTSTART:20250309T070000
END:DAYLIGHT
BEGIN:STANDARD
TZOFFSETFROM:-0400
TZOFFSETTO:-0500
TZNAME:EST
DTSTART:20251102T060000
END:STANDARD
END:VTIMEZONE
BEGIN:VEVENT
DTSTART;TZID=America/New_York:20250813T190000
DTEND;TZID=America/New_York:20250813T210000
DTSTAMP:20260417T162921
CREATED:20250813T104814Z
LAST-MODIFIED:20250813T104814Z
UID:1443-1755111600-1755118800@www.lonepinehuntersclub.org
SUMMARY:August '25 Membership Meeting
DESCRIPTION:Lone Pine’s monthly membership meeting held on the second Wednesday of the month in the clubhouse. Come early to enjoy a fresh meal prepared by chef Tim. \nMost meetings include a kitchen gun raffle and 50/50 raffle. Join us to learn about the latest updates about the club\, including the gun range\, and connect with like-minded sportsmen.
URL:https://www.lonepinehuntersclub.org/event/august-25-membership-meeting/
LOCATION:Lone Pine Hunters Club\, 67 Lone Pine Lane\, Hollis\, NH\, 03049\, United States
ATTACH;FMTTYPE=image/jpeg:https://www.lonepinehuntersclub.org/wp-content/uploads/2024/04/100_3596.jpg
END:VEVENT
BEGIN:VEVENT
DTSTART;TZID=America/New_York:20250722T160000
DTEND;TZID=America/New_York:20250722T180000
DTSTAMP:20260417T162921
CREATED:20250713T174902Z
LAST-MODIFIED:20250713T174902Z
UID:1436-1753200000-1753207200@www.lonepinehuntersclub.org
SUMMARY:3D Archery Shoot - Jul 22\, 2025
DESCRIPTION:Shoot 15 targets weekly on Lone Pine’s beautiful 3D course. \nThe shoots are open to the public\, so bring a friend. \nQuality target range available. \nBurgers and hot dogs available following the shoot.
URL:https://www.lonepinehuntersclub.org/event/3d-archery-shoot-jul-22-2025/
LOCATION:Lone Pine Hunters Club\, 67 Lone Pine Lane\, Hollis\, NH\, 03049\, United States
ATTACH;FMTTYPE=image/jpeg:https://www.lonepinehuntersclub.org/wp-content/uploads/2024/07/archery-range-scaled.jpg
ORGANIZER;CN="Gary Girouard":MAILTO:garygirouard03060@yahoo.com
END:VEVENT
BEGIN:VEVENT
DTSTART;TZID=America/New_York:20250715T160000
DTEND;TZID=America/New_York:20250715T180000
DTSTAMP:20260417T162921
CREATED:20250713T174740Z
LAST-MODIFIED:20250713T174740Z
UID:1434-1752595200-1752602400@www.lonepinehuntersclub.org
SUMMARY:3D Archery Shoot - Jul 15\, 2025
DESCRIPTION:Shoot 15 targets weekly on Lone Pine’s beautiful 3D course. \nThe shoots are open to the public\, so bring a friend. \nQuality target range available. \nBurgers and hot dogs available following the shoot.
URL:https://www.lonepinehuntersclub.org/event/3d-archery-shoot-jul-15-2025/
LOCATION:Lone Pine Hunters Club\, 67 Lone Pine Lane\, Hollis\, NH\, 03049\, United States
ATTACH;FMTTYPE=image/jpeg:https://www.lonepinehuntersclub.org/wp-content/uploads/2024/07/archery-range-scaled.jpg
ORGANIZER;CN="Gary Girouard":MAILTO:garygirouard03060@yahoo.com
END:VEVENT
BEGIN:VEVENT
DTSTART;TZID=America/New_York:20250709T190000
DTEND;TZID=America/New_York:20250709T210000
DTSTAMP:20260417T162921
CREATED:20250708T122334Z
LAST-MODIFIED:20250708T122334Z
UID:1430-1752087600-1752094800@www.lonepinehuntersclub.org
SUMMARY:July Membership Meeting
DESCRIPTION:Lone Pine’s monthly membership meeting held on the second Wednesday of the month in the clubhouse. Come early to enjoy a fresh meal prepared by chef Tim. \nMost meetings include a kitchen gun raffle and 50/50 raffle. Join us to learn about the latest updates about the club\, including the gun range\, and connect with like-minded sportsmen.
URL:https://www.lonepinehuntersclub.org/event/july-membership-meeting/
LOCATION:Lone Pine Hunters Club\, 67 Lone Pine Lane\, Hollis\, NH\, 03049\, United States
ATTACH;FMTTYPE=image/jpeg:https://www.lonepinehuntersclub.org/wp-content/uploads/2024/04/100_3596.jpg
END:VEVENT
BEGIN:VEVENT
DTSTART;TZID=America/New_York:20250514T190000
DTEND;TZID=America/New_York:20250514T210000
DTSTAMP:20260417T162921
CREATED:20250413T225017Z
LAST-MODIFIED:20250413T225017Z
UID:1346-1747249200-1747256400@www.lonepinehuntersclub.org
SUMMARY:May 2025 Membership Meeting
DESCRIPTION:Lone Pine’s monthly membership meeting held on the second Wednesday of the month in the clubhouse. Come early to enjoy a fresh meal prepared by chef Tim. \nMost meetings include a kitchen gun raffle and 50/50 raffle. Join us to learn about the latest updates about the club\, including the gun range\, and connect with like-minded sportsmen.
URL:https://www.lonepinehuntersclub.org/event/may-2025-membership-meeting/
LOCATION:Lone Pine Hunters Club\, 67 Lone Pine Lane\, Hollis\, NH\, 03049\, United States
ATTACH;FMTTYPE=image/jpeg:https://www.lonepinehuntersclub.org/wp-content/uploads/2024/04/100_3596.jpg
END:VEVENT
BEGIN:VEVENT
DTSTART;TZID=America/New_York:20250412T120000
DTEND;TZID=America/New_York:20250412T170000
DTSTAMP:20260417T162921
CREATED:20250302T034622Z
LAST-MODIFIED:20250409T005740Z
UID:1221-1744459200-1744477200@www.lonepinehuntersclub.org
SUMMARY:2025 Moose Roast
DESCRIPTION:Join Lone Pine members for our annual Moose Roast game dinner. Loads of raffles and a great meal with friends and like minded sportsmen.
URL:https://www.lonepinehuntersclub.org/event/2025-moose-roast/
LOCATION:Lone Pine Hunters Club\, 67 Lone Pine Lane\, Hollis\, NH\, 03049\, United States
ATTACH;FMTTYPE=image/jpeg:https://www.lonepinehuntersclub.org/wp-content/uploads/2024/08/clubhouse_gathering-scaled.jpg
END:VEVENT
BEGIN:VEVENT
DTSTART;TZID=America/New_York:20250409T190000
DTEND;TZID=America/New_York:20250409T210000
DTSTAMP:20260417T162921
CREATED:20250409T005949Z
LAST-MODIFIED:20250409T005949Z
UID:1305-1744225200-1744232400@www.lonepinehuntersclub.org
SUMMARY:April Membership Meeting
DESCRIPTION:Lone Pine’s monthly membership meeting held on the second Wednesday of the month in the clubhouse. Come early to enjoy a fresh meal prepared by chef Tim. \nMost meetings include a kitchen gun raffle and 50/50 raffle. Join us to learn about the latest updates about the club\, including the gun range\, and connect with like-minded sportsmen.
URL:https://www.lonepinehuntersclub.org/event/april-membership-meeting/
LOCATION:Lone Pine Hunters Club\, 67 Lone Pine Lane\, Hollis\, NH\, 03049\, United States
ATTACH;FMTTYPE=image/jpeg:https://www.lonepinehuntersclub.org/wp-content/uploads/2024/04/100_3596.jpg
END:VEVENT
BEGIN:VEVENT
DTSTART;TZID=America/New_York:20250312T070000
DTEND;TZID=America/New_York:20250312T210000
DTSTAMP:20260417T162921
CREATED:20250302T174709Z
LAST-MODIFIED:20250302T194338Z
UID:1233-1741762800-1741813200@www.lonepinehuntersclub.org
SUMMARY:March Club Meeting
DESCRIPTION:Lone Pine’s monthly membership meeting held on the second Wednesday of the month in the clubhouse. Come early to enjoy a fresh meal prepared by chef Tim. \nMost meetings include a kitchen gun raffle and 50/50 raffle. Join us to learn about the latest updates about the club\, including the gun range\, and connect with like-minded sportsmen.
URL:https://www.lonepinehuntersclub.org/event/march-club-meeting/
LOCATION:Lone Pine Hunters Club\, 67 Lone Pine Lane\, Hollis\, NH\, 03049\, United States
ATTACH;FMTTYPE=image/jpeg:https://www.lonepinehuntersclub.org/wp-content/uploads/2024/09/kitchen-lone-pine.jpg
END:VEVENT
BEGIN:VEVENT
DTSTART;VALUE=DATE:20250311
DTEND;VALUE=DATE:20250312
DTSTAMP:20260417T162921
CREATED:20250302T193339Z
LAST-MODIFIED:20250302T193339Z
UID:1280-1741651200-1741737599@www.lonepinehuntersclub.org
SUMMARY:Club House Reserved - March 11\, 2025
DESCRIPTION:Dave Jennings
URL:https://www.lonepinehuntersclub.org/event/club-house-reserved-march-11-2025/
LOCATION:NH
ATTACH;FMTTYPE=image/jpeg:https://www.lonepinehuntersclub.org/wp-content/uploads/2024/04/100_3596.jpg
END:VEVENT
BEGIN:VEVENT
DTSTART;TZID=America/New_York:20250303T160000
DTEND;TZID=America/New_York:20250303T190000
DTSTAMP:20260417T162921
CREATED:20250301T195113Z
LAST-MODIFIED:20250301T212334Z
UID:1186-1741017600-1741028400@www.lonepinehuntersclub.org
SUMMARY:2025 Pellet League
DESCRIPTION:Join Lone Pine Members for the 2025 Pellet League\, a relaxed way to explore recreational shooting. Loaner pellet guns are available\, and new members can try for free. A banquet is held at the end of the season in late March. Located in the basement of Lone Pine Hunters Club\, enter through the lower\, rear entrance. Only $5 per week!
URL:https://www.lonepinehuntersclub.org/event/2025-pellet-league/
LOCATION:Lone Pine Hunters Club\, 67 Lone Pine Lane\, Hollis\, NH\, 03049\, United States
ATTACH;FMTTYPE=image/png:https://www.lonepinehuntersclub.org/wp-content/uploads/2024/07/pellet-range.png
END:VEVENT
BEGIN:VEVENT
DTSTART;TZID=America/New_York:20240702T160000
DTEND;TZID=America/New_York:20240702T183000
DTSTAMP:20260417T162921
CREATED:20240701T023501Z
LAST-MODIFIED:20240701T023501Z
UID:353-1719936000-1719945000@www.lonepinehuntersclub.org
SUMMARY:3D Archery Shoot - Weekly
DESCRIPTION:Shoot 15 targets weekly on Lone Pine’s beautiful 3D course. \nThe shoots are open to the public\, so bring a friend. \nQuality target range available. \nBurgers and hot dogs available following the shoot.
URL:https://www.lonepinehuntersclub.org/event/3d-archery-shoot-weekly/
LOCATION:Lone Pine Hunters Club\, 67 Lone Pine Lane\, Hollis\, NH\, 03049\, United States
ATTACH;FMTTYPE=image/jpeg:https://www.lonepinehuntersclub.org/wp-content/uploads/2024/06/Archery-Moose.jpg
ORGANIZER;CN="Gary Girouard":MAILTO:garygirouard03060@yahoo.com
END:VEVENT
END:VCALENDAR